BEGIN:VCALENDAR
VERSION:2.0
CALSCALE:GREGORIAN
METHOD:PUBLISH
X-WR-TIMEZONE:Australia/Sydney
BEGIN:VTIMEZONE
TZID:Australia/Sydney
BEGIN:STANDARD
TZNAME:AEST
END:STANDARD
END:VTIMEZONE
BEGIN:VEVENT
DTSTART;TZID=Australia/Sydney:20190319T090000
DTEND;TZID=Australia/Sydney:20190319T100000
DTSTAMP:20190227T175843
UID:718
SUMMARY:Classroom Helper Session
DESCRIPTION:




If you would like to volunteer to help our Prep - 2 teachers during the reading hour throughout the year then please sign the form to attend a 1 hour induction session facilitated by Janet Gill.&amp;nbsp; Parents will need to attend the induction in order to assist in classrooms.&amp;nbsp; Parents are advised that you require a current Working with Children Card to volunteer at the school.


SEQUENCE:0
STATUS:CONFIRMED
TRANSP:OPAQUE
END:VEVENT
END:VCALENDAR