BEGIN:VCALENDAR
VERSION:2.0
CALSCALE:GREGORIAN
METHOD:PUBLISH
X-WR-TIMEZONE:Australia/Sydney
BEGIN:VTIMEZONE
TZID:Australia/Sydney
BEGIN:STANDARD
TZNAME:AEST
END:STANDARD
END:VTIMEZONE
BEGIN:VEVENT
DTSTART;TZID=Australia/Sydney:20190226T140000
DTEND;TZID=Australia/Sydney:20190226T190000
DTSTAMP:20190227T175907
UID:717
SUMMARY:'Meet the Teacher' Interviews
DESCRIPTION:




Meet the teacher interviews will be conducted.&amp;nbsp; Bookings via www.schoolinterviews.com.au.&amp;nbsp; Enter the code:&amp;nbsp; n5w55


SEQUENCE:0
STATUS:CONFIRMED
TRANSP:OPAQUE
END:VEVENT
END:VCALENDAR