BEGIN:VCALENDAR
VERSION:2.0
CALSCALE:GREGORIAN
METHOD:PUBLISH
X-WR-TIMEZONE:Australia/Sydney
BEGIN:VTIMEZONE
TZID:Australia/Sydney
BEGIN:STANDARD
TZNAME:AEST
END:STANDARD
END:VTIMEZONE
BEGIN:VEVENT
DTSTART;TZID=Australia/Sydney:20190205T091500
DTEND;TZID=Australia/Sydney:20190205T100000
DTSTAMP:20190227T175854
UID:712
SUMMARY:Coffee &amp; Numeracy Chat
DESCRIPTION:




Parents are invited to attend a chat&amp;nbsp;regarding numeracy.&amp;nbsp; This will be held in the MPR.


SEQUENCE:0
STATUS:CONFIRMED
TRANSP:OPAQUE
END:VEVENT
END:VCALENDAR