BEGIN:VCALENDAR
VERSION:2.0
CALSCALE:GREGORIAN
METHOD:PUBLISH
X-WR-TIMEZONE:Australia/Sydney
BEGIN:VTIMEZONE
TZID:Australia/Sydney
BEGIN:STANDARD
TZNAME:AEST
END:STANDARD
END:VTIMEZONE
BEGIN:VEVENT
DTSTART;TZID=Australia/Sydney:20190204T091500
DTEND;TZID=Australia/Sydney:20190204T100000
DTSTAMP:20190227T175849
UID:711
SUMMARY:Coffee &amp; Literacy Chat
DESCRIPTION:




Parents are invited to attend a chat about literacy.&amp;nbsp; This will be held in the MPR.


SEQUENCE:0
STATUS:CONFIRMED
TRANSP:OPAQUE
END:VEVENT
END:VCALENDAR